BEGIN:VCALENDAR
VERSION:2.0
PRODID:-//eventon.com NONSGML v1.0//EN
CALSCALE:GREGORIAN
METHOD:PUBLISH
BEGIN:VEVENT
UID:69e8d321067b8
DTSTAMP:20260422T135441Z
DTSTART:20230923T180000Z
DTEND:20230923T215000Z
LOCATION:
SUMMARY:Stageband Jazz Orchestra: Noorder Rondrit
DESCRIPTION:Met Peter Kuipers Munneke\nhttps://johanboekema.nl/events/stage
 band-jazz-orchestra-noorder-rondrit-2/
URL:https://johanboekema.nl/events/stageband-jazz-orchestra-noorder-rondrit-2/
END:VEVENT
END:VCALENDAR