BEGIN:VCALENDAR
VERSION:2.0
PRODID:-//eventon.com NONSGML v1.0//EN
CALSCALE:GREGORIAN
METHOD:PUBLISH
BEGIN:VEVENT
UID:69e8d33f0f179
DTSTAMP:20260422T135511Z
DTSTART:20230625T160000Z
DTEND:20230625T215000Z
LOCATION:
SUMMARY:JazzMob
DESCRIPTION:JazzMob\nhttps://johanboekema.nl/events/jazzmob/
URL:https://johanboekema.nl/events/jazzmob/
END:VEVENT
END:VCALENDAR