BEGIN:VCALENDAR
VERSION:2.0
PRODID:-//eventon.com NONSGML v1.0//EN
CALSCALE:GREGORIAN
METHOD:PUBLISH
BEGIN:VEVENT
UID:69e8d3207f93c
DTSTAMP:20260422T135440Z
DTSTART:20230629T180000Z
DTEND:20230629T215000Z
LOCATION:
SUMMARY:JazzMob - CCV party
DESCRIPTION:JazzMob - CCV party\nhttps://johanboekema.nl/events/jazzmob-cop
 y/
URL:https://johanboekema.nl/events/jazzmob-copy/
END:VEVENT
END:VCALENDAR