BEGIN:VCALENDAR
VERSION:2.0
PRODID:-//eventon.com NONSGML v1.0//EN
CALSCALE:GREGORIAN
METHOD:PUBLISH
BEGIN:VEVENT
UID:69e8d377a8f12
DTSTAMP:20260422T135607Z
DTSTART:20230825T130000Z
DTEND:20230825T215000Z
LOCATION:
SUMMARY:Chicago Funk
DESCRIPTION:Chicago Funk\nhttps://johanboekema.nl/events/chicago-funk-4/
URL:https://johanboekema.nl/events/chicago-funk-4/
END:VEVENT
END:VCALENDAR