BEGIN:VCALENDAR
VERSION:2.0
PRODID:-//eventon.com NONSGML v1.0//EN
CALSCALE:GREGORIAN
METHOD:PUBLISH
BEGIN:VEVENT
UID:69e8d3e15d354
DTSTAMP:20260422T135753Z
DTSTART:20230913T180000Z
DTEND:20230913T215000Z
LOCATION:Café De Zolder Papengang 3a
SUMMARY:Zolder: JazzMob
DESCRIPTION:Zolder: JazzMob\nhttps://johanboekema.nl/events/zolder-jazzmob/
URL:https://johanboekema.nl/events/zolder-jazzmob/
END:VEVENT
END:VCALENDAR