BEGIN:VCALENDAR
VERSION:2.0
PRODID:-//eventon.com NONSGML v1.0//EN
CALSCALE:GREGORIAN
METHOD:PUBLISH
BEGIN:VEVENT
UID:69e8d38202f7e
DTSTAMP:20260422T135618Z
DTSTART:20231021T180000Z
DTEND:20231021T215000Z
LOCATION:De Oosterpoort Trompsingel 27
SUMMARY:Jazzmob plays Tsjaikovski
DESCRIPTION:Jazzmob plays Tsjaikovski\nhttps://johanboekema.nl/events/jazzm
 ob-plays-tsjaikovski/
URL:https://johanboekema.nl/events/jazzmob-plays-tsjaikovski/
END:VEVENT
END:VCALENDAR