BEGIN:VCALENDAR
VERSION:2.0
PRODID:-//eventon.com NONSGML v1.0//EN
CALSCALE:GREGORIAN
METHOD:PUBLISH
BEGIN:VEVENT
UID:69e74615a7fa5
DTSTAMP:20260421T094037Z
DTSTART:20230930T180000Z
DTEND:20230930T215000Z
LOCATION:
SUMMARY:Jazzmob goes Latin
DESCRIPTION:Met speciaal toegevoegd Zala Rus (alt-saxofoon) en Nedelcho Nin
 ov (trombone) speelt the Jazzmob deze avond alleen maar latin!\nhttps://joh
 anboekema.nl/events/jazzmob-goes-latin/
URL:https://johanboekema.nl/events/jazzmob-goes-latin/
END:VEVENT
END:VCALENDAR