BEGIN:VCALENDAR
VERSION:2.0
PRODID:-//eventon.com NONSGML v1.0//EN
CALSCALE:GREGORIAN
METHOD:PUBLISH
BEGIN:VEVENT
UID:69e8d399ce484
DTSTAMP:20260422T135641Z
DTSTART:20231207T173000Z
DTEND:20231207T225000Z
LOCATION:
SUMMARY:Kerstmarkt Marum
DESCRIPTION:Kerstmarkt Marum\nhttps://johanboekema.nl/events/kerstmarkt-mar
 um-2/
URL:https://johanboekema.nl/events/kerstmarkt-marum-2/
END:VEVENT
END:VCALENDAR