BEGIN:VCALENDAR
VERSION:2.0
PRODID:-//eventon.com NONSGML v1.0//EN
CALSCALE:GREGORIAN
METHOD:PUBLISH
BEGIN:VEVENT
UID:69e8d303643e7
DTSTAMP:20260422T135411Z
DTSTART:20231212T200000Z
DTEND:20231212T225000Z
LOCATION:De Smederij Tuinstraat 2
SUMMARY:Prins Claus Big Band
DESCRIPTION:Prins Claus Big Band\nhttps://johanboekema.nl/events/prins-clau
 s-big-band-2/
URL:https://johanboekema.nl/events/prins-claus-big-band-2/
END:VEVENT
END:VCALENDAR