BEGIN:VCALENDAR
VERSION:2.0
PRODID:-//eventon.com NONSGML v1.0//EN
CALSCALE:GREGORIAN
METHOD:PUBLISH
BEGIN:VEVENT
UID:69e8d377482c3
DTSTAMP:20260422T135607Z
DTSTART:20240209T113000Z
DTEND:20240209T225000Z
LOCATION:Tivoli Vredenburgkade 11
SUMMARY:Prins Claus Big Band - Tivoli
DESCRIPTION:Prins Claus Big Band - Tivoli\nhttps://johanboekema.nl/events/p
 rins-claus-big-band-tivoli/
URL:https://johanboekema.nl/events/prins-claus-big-band-tivoli/
END:VEVENT
END:VCALENDAR