BEGIN:VCALENDAR
VERSION:2.0
PRODID:-//eventon.com NONSGML v1.0//EN
CALSCALE:GREGORIAN
METHOD:PUBLISH
BEGIN:VEVENT
UID:69e8d3695d8f8
DTSTAMP:20260422T135553Z
DTSTART:20231104T103000Z
DTEND:20231104T225000Z
LOCATION:Prins Claus Conservatorium Meeuwerderweg 1
SUMMARY:Prins Claus TOP Ensemble and Big Band
DESCRIPTION:Tijdens de open dag van het PCC\nhttps://johanboekema.nl/events
 /prins-claus-top-ensemble/
URL:https://johanboekema.nl/events/prins-claus-top-ensemble/
END:VEVENT
END:VCALENDAR