BEGIN:VCALENDAR
VERSION:2.0
PRODID:-//eventon.com NONSGML v1.0//EN
CALSCALE:GREGORIAN
METHOD:PUBLISH
BEGIN:VEVENT
UID:69e8d3763982e
DTSTAMP:20260422T135606Z
DTSTART:20240315T120000Z
DTEND:20240315T225000Z
LOCATION:
SUMMARY:Showband Marum en NNO
DESCRIPTION:Showband Marum en NNO\nhttps://johanboekema.nl/events/showband-
 marum-en-nno/var/ri-1.l-L1
URL:https://johanboekema.nl/events/showband-marum-en-nno/var/ri-1.l-L1
END:VEVENT
END:VCALENDAR