BEGIN:VCALENDAR
VERSION:2.0
PRODID:-//eventon.com NONSGML v1.0//EN
CALSCALE:GREGORIAN
METHOD:PUBLISH
BEGIN:VEVENT
UID:69e8d32ec293d
DTSTAMP:20260422T135454Z
DTSTART:20240316T120000Z
DTEND:20240316T225000Z
LOCATION:
SUMMARY:Showband Marum en NNO
DESCRIPTION:Showband Marum en NNO\nhttps://johanboekema.nl/events/showband-
 marum-en-nno/var/ri-2.l-L1
URL:https://johanboekema.nl/events/showband-marum-en-nno/var/ri-2.l-L1
END:VEVENT
END:VCALENDAR