BEGIN:VCALENDAR
VERSION:2.0
PRODID:-//eventon.com NONSGML v1.0//EN
CALSCALE:GREGORIAN
METHOD:PUBLISH
BEGIN:VEVENT
UID:69e8d37fba92e
DTSTAMP:20260422T135615Z
DTSTART:20240204T140000Z
DTEND:20240204T225000Z
LOCATION:De Tamboer Hoofdstraat 17
SUMMARY:Stageband Jazz Orchestra: Drents Talent op zijn best
DESCRIPTION:De Tamboer\,  Hoogeveen\nhttps://johanboekema.nl/events/stageba
 nd-jazz-orchestra-drents-talent-op-zijn-best-2/
URL:https://johanboekema.nl/events/stageband-jazz-orchestra-drents-talent-op-zijn-best-2/
END:VEVENT
END:VCALENDAR