BEGIN:VCALENDAR
VERSION:2.0
PRODID:-//eventon.com NONSGML v1.0//EN
CALSCALE:GREGORIAN
METHOD:PUBLISH
BEGIN:VEVENT
UID:69e8d301e36a4
DTSTAMP:20260422T135409Z
DTSTART:20240618T173000Z
DTEND:20240618T215000Z
LOCATION:De Oosterpoort Trompsingel 27
SUMMARY:Examen Bram & Johan
DESCRIPTION:Examen Bram & Johan\nhttps://johanboekema.nl/events/examen-bram
 -johan/
URL:https://johanboekema.nl/events/examen-bram-johan/
END:VEVENT
END:VCALENDAR