BEGIN:VCALENDAR
VERSION:2.0
PRODID:-//eventon.com NONSGML v1.0//EN
CALSCALE:GREGORIAN
METHOD:PUBLISH
BEGIN:VEVENT
UID:69e8d3236bda4
DTSTAMP:20260422T135443Z
DTSTART:20240629T170000Z
DTEND:20240629T215000Z
LOCATION:Theater Van Beresteyn Museumplein 5a
SUMMARY:Stageband Jazz Orchestra: Swingin Groningen
DESCRIPTION:Beresteyn\,  Veendam\nhttps://johanboekema.nl/events/stageband-
 jazz-orchestra-swingin-groningen/
URL:https://johanboekema.nl/events/stageband-jazz-orchestra-swingin-groningen/
END:VEVENT
END:VCALENDAR