BEGIN:VCALENDAR
VERSION:2.0
PRODID:-//eventon.com NONSGML v1.0//EN
CALSCALE:GREGORIAN
METHOD:PUBLISH
BEGIN:VEVENT
UID:69e8d32fa6fdc
DTSTAMP:20260422T135455Z
DTSTART:20240525T180000Z
DTEND:20240525T215000Z
LOCATION:
SUMMARY:Jazzmob
DESCRIPTION:Jazzmob\nhttps://johanboekema.nl/events/jazzmob-2/
URL:https://johanboekema.nl/events/jazzmob-2/
END:VEVENT
END:VCALENDAR