BEGIN:VCALENDAR
VERSION:2.0
PRODID:-//eventon.com NONSGML v1.0//EN
CALSCALE:GREGORIAN
METHOD:PUBLISH
BEGIN:VEVENT
UID:69e8d39a8d8ec
DTSTAMP:20260422T135642Z
DTSTART:20240527T170000Z
DTEND:20240527T215000Z
LOCATION:Prins Claus Conservatorium Meeuwerderweg 1
SUMMARY:Examen Martín Regaña
DESCRIPTION:Examen Martín Regaña\nhttps://johanboekema.nl/events/examen-m
 artin-regana/
URL:https://johanboekema.nl/events/examen-martin-regana/
END:VEVENT
END:VCALENDAR