BEGIN:VCALENDAR
VERSION:2.0
PRODID:-//eventon.com NONSGML v1.0//EN
CALSCALE:GREGORIAN
METHOD:PUBLISH
BEGIN:VEVENT
UID:69e8d321a5d29
DTSTAMP:20260422T135441Z
DTSTART:20240611T190000Z
DTEND:20240611T215000Z
LOCATION:De Smederij Tuinstraat 2
SUMMARY:Prins Claus Big Band at De Smederij
DESCRIPTION:Prins Claus Big Band at De Smederij\nhttps://johanboekema.nl/ev
 ents/prins-claus-big-band-at-de-smederij/
URL:https://johanboekema.nl/events/prins-claus-big-band-at-de-smederij/
END:VEVENT
END:VCALENDAR