BEGIN:VCALENDAR
VERSION:2.0
PRODID:-//eventon.com NONSGML v1.0//EN
CALSCALE:GREGORIAN
METHOD:PUBLISH
BEGIN:VEVENT
UID:69e8d304f415f
DTSTAMP:20260422T135412Z
DTSTART:20240621T170000Z
DTEND:20240621T215000Z
LOCATION:
SUMMARY:Showband Marum - Avondvierdaagse Marum
DESCRIPTION:Met workshops musiceren!\nhttps://johanboekema.nl/events/showba
 nd-marum-avondvierdaagse-marum/
URL:https://johanboekema.nl/events/showband-marum-avondvierdaagse-marum/
END:VEVENT
END:VCALENDAR