BEGIN:VCALENDAR
VERSION:2.0
PRODID:-//eventon.com NONSGML v1.0//EN
CALSCALE:GREGORIAN
METHOD:PUBLISH
BEGIN:VEVENT
UID:69e8d36a92f1f
DTSTAMP:20260422T135554Z
DTSTART:20240921T180000Z
DTEND:20240921T215000Z
LOCATION:Prins Claus Conservatorium Meeuwerderweg 1
SUMMARY:Stageband Jazz Orchestra
DESCRIPTION:Prins Claus Conservatorium\nhttps://johanboekema.nl/events/stag
 eband-jazz-orchestra/
URL:https://johanboekema.nl/events/stageband-jazz-orchestra/
END:VEVENT
END:VCALENDAR