BEGIN:VCALENDAR
VERSION:2.0
PRODID:-//eventon.com NONSGML v1.0//EN
CALSCALE:GREGORIAN
METHOD:PUBLISH
BEGIN:VEVENT
UID:69e8d3fc0792c
DTSTAMP:20260422T135820Z
DTSTART:20240506T180000Z
DTEND:20240506T215000Z
LOCATION:Prins Claus Conservatorium Meeuwerderweg 1
SUMMARY:Examen Mike van der Veen
DESCRIPTION:Examen Mike van der Veen\nhttps://johanboekema.nl/events/examen
 -mike-van-der-veen/
URL:https://johanboekema.nl/events/examen-mike-van-der-veen/
END:VEVENT
END:VCALENDAR