BEGIN:VCALENDAR
VERSION:2.0
PRODID:-//eventon.com NONSGML v1.0//EN
CALSCALE:GREGORIAN
METHOD:PUBLISH
BEGIN:VEVENT
UID:69e8d30464ef4
DTSTAMP:20260422T135412Z
DTSTART:20240615T110000Z
DTEND:20240615T215000Z
LOCATION:
SUMMARY:Showband Marum - Dweildag Hasselt
DESCRIPTION:Showband Marum - Dweildag Hasselt\nhttps://johanboekema.nl/even
 ts/showband-marum-dweildag-hasselt/
URL:https://johanboekema.nl/events/showband-marum-dweildag-hasselt/
END:VEVENT
END:VCALENDAR