BEGIN:VCALENDAR
VERSION:2.0
PRODID:-//eventon.com NONSGML v1.0//EN
CALSCALE:GREGORIAN
METHOD:PUBLISH
BEGIN:VEVENT
UID:69e8d323b79d6
DTSTAMP:20260422T135443Z
DTSTART:20240705T180000Z
DTEND:20240705T215000Z
LOCATION:De Oosterpoort Trompsingel 27
SUMMARY:Prins Claus Conservatorium Zomerconcert
DESCRIPTION:Prins Claus Conservatorium Zomerconcert\nhttps://johanboekema.n
 l/events/prins-claus-conservatorium-zomerconcert/
URL:https://johanboekema.nl/events/prins-claus-conservatorium-zomerconcert/
END:VEVENT
END:VCALENDAR