BEGIN:VCALENDAR
VERSION:2.0
PRODID:-//eventon.com NONSGML v1.0//EN
CALSCALE:GREGORIAN
METHOD:PUBLISH
BEGIN:VEVENT
UID:69e8d3319b821
DTSTAMP:20260422T135457Z
DTSTART:20240928T110000Z
DTEND:20240928T215000Z
LOCATION:Marum
SUMMARY:Ma-run/Najaarsmarkt
DESCRIPTION:Ma-run/Najaarsmarkt\nhttps://johanboekema.nl/events/showband-ma
 rum-sneker-dweildag/
URL:https://johanboekema.nl/events/showband-marum-sneker-dweildag/
END:VEVENT
END:VCALENDAR